BEGIN:VCALENDAR
VERSION:2.0
PRODID:icalendar-ruby
CALSCALE:GREGORIAN
METHOD:PUBLISH
BEGIN:VEVENT
DTSTAMP:20260420T053955Z
UID:2-569003@tcspringvalley.org
DTSTART:20260806T000000Z
DTEND:20260806T010000Z
CLASS:PUBLIC
CREATED:20260419T213946
DESCRIPTION:Our Church Bible Study is for the whole Family\, all ages.
LAST-MODIFIED:20260419T213946
LOCATION:| 100 E 4th St\, Spring Valley\, IL |
SUMMARY:Wednesday Bible Study
URL;VALUE=URI:https://www.tcspringvalley.org/events/wednesday-bible-study/2
 026-08-05
END:VEVENT
END:VCALENDAR
