BEGIN:VCALENDAR
VERSION:2.0
PRODID:icalendar-ruby
CALSCALE:GREGORIAN
METHOD:PUBLISH
BEGIN:VEVENT
DTSTAMP:20260420T070914Z
UID:2-569418@tcspringvalley.org
DTSTART:20260813T000000Z
DTEND:20260813T010000Z
CLASS:PUBLIC
CREATED:20260420T011639
DESCRIPTION:Our Church Bible Study is for the whole Family\, all ages.
LAST-MODIFIED:20260420T011639
LOCATION:| 100 E 4th St\, Spring Valley\, IL |
SUMMARY:Wednesday Bible Study
URL;VALUE=URI:https://www.tcspringvalley.org/events/wednesday-bible-study/2
 026-08-12
END:VEVENT
END:VCALENDAR
