BEGIN:VCALENDAR
VERSION:2.0
PRODID:icalendar-ruby
CALSCALE:GREGORIAN
METHOD:PUBLISH
BEGIN:VEVENT
DTSTAMP:20260422T084212Z
UID:2-574387@tcspringvalley.org
DTSTART:20260820T000000Z
DTEND:20260820T010000Z
CLASS:PUBLIC
CREATED:20260421T192645
DESCRIPTION:Our Church Bible Study is for the whole Family\, all ages.
LAST-MODIFIED:20260421T192645
LOCATION:| 100 E 4th St\, Spring Valley\, IL |
SUMMARY:Wednesday Bible Study
URL;VALUE=URI:https://www.tcspringvalley.org/events/wednesday-bible-study/2
 026-08-19
END:VEVENT
END:VCALENDAR
