BEGIN:VCALENDAR
VERSION:2.0
PRODID:icalendar-ruby
CALSCALE:GREGORIAN
METHOD:PUBLISH
BEGIN:VEVENT
DTSTAMP:20260422T144006Z
UID:2-575219@tcspringvalley.org
DTSTART:20260917T000000Z
DTEND:20260917T010000Z
CLASS:PUBLIC
CREATED:20260422T092313
DESCRIPTION:Our Church Bible Study is for the whole Family\, all ages.
LAST-MODIFIED:20260422T092313
LOCATION:| 100 E 4th St\, Spring Valley\, IL |
SUMMARY:Wednesday Bible Study
URL;VALUE=URI:https://www.tcspringvalley.org/events/wednesday-bible-study/2
 026-09-16
END:VEVENT
END:VCALENDAR
