BEGIN:VCALENDAR
VERSION:2.0
PRODID:icalendar-ruby
CALSCALE:GREGORIAN
METHOD:PUBLISH
BEGIN:VEVENT
DTSTAMP:20260422T211436Z
UID:2-576051@tcspringvalley.org
DTSTART:20261015T000000Z
DTEND:20261015T010000Z
CLASS:PUBLIC
CREATED:20260422T151334
DESCRIPTION:Our Church Bible Study is for the whole Family\, all ages.
LAST-MODIFIED:20260422T151334
LOCATION:| 100 E 4th St\, Spring Valley\, IL |
SUMMARY:Wednesday Bible Study
URL;VALUE=URI:https://www.tcspringvalley.org/events/wednesday-bible-study/2
 026-10-14
END:VEVENT
END:VCALENDAR
